BEGIN:VCALENDAR
VERSION:2.0
PRODID:-//AudioTheme 2.3.8
BEGIN:VEVENT
UID:urn:uuid:8d50b7f1-10cc-459c-9ea7-3caffb69c805
URL:https://mitchmcvicker.com/concerts/gig-3941/
DTSTART;TZID=GMT:20201004T223000
SUMMARY:Friendship Community Church
LOCATION:Friendship Community Church\, 3380 Fox Run Road\, Dover\, PA\, USA
END:VEVENT
END:VCALENDAR
