BEGIN:VCALENDAR
VERSION:2.0
PRODID:-//AudioTheme 2.3.8
BEGIN:VEVENT
UID:urn:uuid:bdcbdacb-81f6-48c7-bf69-19b8557a9812
URL:https://mitchmcvicker.com/concerts/gig-3939/
DTSTART;TZID=GMT:20201003T230000
SUMMARY:Trinity Church
LOCATION:Trinity Church\, 14040 Bagley Road\, Middleburg Heights\, OH\, USA
END:VEVENT
END:VCALENDAR
