BEGIN:VCALENDAR
VERSION:2.0
PRODID:-//AudioTheme 2.3.8
BEGIN:VEVENT
UID:urn:uuid:63b5fa54-3fbb-4f74-beda-f05daad452a1
URL:https://mitchmcvicker.com/concerts/gig-3937/
DTSTART;TZID=GMT:20201002T230000
SUMMARY:Cross America (Doubting Thomas Coffee)
LOCATION:Cross America (Doubting Thomas Coffee)\, 840 Daniel Dr.\, Kokomo\, IN\, USA
END:VEVENT
END:VCALENDAR
