BEGIN:VCALENDAR
VERSION:2.0
PRODID:-//AudioTheme 2.3.8
BEGIN:VEVENT
UID:urn:uuid:4e4aa672-7ab6-4786-b72f-dafc16bae4ff
URL:https://mitchmcvicker.com/concerts/gig-3933/
DTSTART;TZID=GMT:20200920T230000
SUMMARY:Federated Church
LOCATION:Federated Church\, 400 W. Faye Ave.\, Kingfisher\, OK\, USA
END:VEVENT
END:VCALENDAR
