BEGIN:VCALENDAR
VERSION:2.0
PRODID:-//AudioTheme 2.3.8
BEGIN:VEVENT
UID:urn:uuid:dd09c876-8a8e-453b-b6e0-28f690728dca
URL:https://mitchmcvicker.com/concerts/gig-3929/
DTSTART;TZID=GMT:20200919T000000
SUMMARY:Lifespring Community Church
LOCATION:Lifespring Community Church\, 1615 Thoele Road\, St. Peters\, MO\, USA
END:VEVENT
END:VCALENDAR
