BEGIN:VCALENDAR
VERSION:2.0
PRODID:-//AudioTheme 2.3.8
BEGIN:VEVENT
UID:urn:uuid:391d2ab1-e3ac-42fa-a40b-b3151e88395c
URL:https://mitchmcvicker.com/concerts/gig-3927/
DTSTART;TZID=GMT:20200917T230000
SUMMARY:Fox River Lutheran Church
LOCATION:Fox River Lutheran Church\, 2785 E. US 52\, Sheridan\, IL\, USA
END:VEVENT
END:VCALENDAR
