BEGIN:VCALENDAR
VERSION:2.0
PRODID:-//AudioTheme 2.3.8
BEGIN:VEVENT
UID:urn:uuid:b1f00179-0526-4474-89f2-ea381d0f607e
URL:https://mitchmcvicker.com/concerts/gig-3922/
DTSTART;TZID=GMT:20200912T230000
SUMMARY:Osgood First Baptist Church
LOCATION:Osgood First Baptist Church\, 124 N. Sycamore St.\, Osgood\, IN\, USA
END:VEVENT
END:VCALENDAR
