BEGIN:VCALENDAR
VERSION:2.0
PRODID:-//AudioTheme 2.3.8
BEGIN:VEVENT
UID:urn:uuid:ef079ab6-c1b4-4dad-a50d-a2ac43582549
URL:https://mitchmcvicker.com/concerts/gig-3920/
DTSTART;TZID=GMT:20200911T223000
SUMMARY:Riverside Christian Church
LOCATION:Riverside Christian Church\, 15413 SR 49\, Antwerp\, OH\, USA
END:VEVENT
END:VCALENDAR
