BEGIN:VCALENDAR
VERSION:2.0
PRODID:-//AudioTheme 2.3.8
BEGIN:VEVENT
UID:urn:uuid:06f85bbc-f3c8-42ff-9b4a-0a69e5daa749
URL:https://mitchmcvicker.com/concerts/gig-3918/
DTSTART;TZID=GMT:20200910T230000
SUMMARY:Christ Church
LOCATION:Christ Church\, 531 Washington St.\, Michigan City\, IN\, USA
END:VEVENT
END:VCALENDAR
