BEGIN:VCALENDAR
VERSION:2.0
PRODID:-//AudioTheme 2.3.8
BEGIN:VEVENT
UID:urn:uuid:9714e85d-515a-4353-ae8a-9b8276f07318
URL:https://mitchmcvicker.com/concerts/gig-3905/
DTSTART;TZID=GMT:20200809T220000
SUMMARY:Grace Chapel - PCC Benefit Open to Public
LOCATION:Grace Chapel - PCC Benefit Open to Public\, 126 Airport Rd.\, Shamokin\, PA
END:VEVENT
END:VCALENDAR
