BEGIN:VCALENDAR
VERSION:2.0
PRODID:-//AudioTheme 2.3.8
BEGIN:VEVENT
UID:urn:uuid:cfee8809-1640-4a3b-9d49-fe2a82ad2724
URL:https://mitchmcvicker.com/concerts/gig-3904/
DTSTART;TZID=GMT:20200808T230000
SUMMARY:Deep Valley Christian Service Camp
LOCATION:Deep Valley Christian Service Camp\, 1073 Studebaker Rd\, Slippery Rock\, PA\, 16057
END:VEVENT
END:VCALENDAR
