BEGIN:VCALENDAR
VERSION:2.0
PRODID:-//AudioTheme 2.3.8
BEGIN:VEVENT
UID:urn:uuid:33d308d8-aa10-40b4-964d-d4d845431559
URL:https://mitchmcvicker.com/concerts/gig-3849/
DTSTART;TZID=GMT:20200311T233000
SUMMARY:God’s Glory Tabernacle International
LOCATION:God’s Glory Tabernacle International\, 206 Sanders Street\, Anderson\, MO
END:VEVENT
END:VCALENDAR
