BEGIN:VCALENDAR
VERSION:2.0
PRODID:-//AudioTheme 2.3.8
BEGIN:VEVENT
UID:urn:uuid:aae37004-36cf-430f-9578-2eca277151fa
URL:https://mitchmcvicker.com/concerts/gig-3846/
DTSTART;TZID=GMT:20200601T000000
SUMMARY:POSTPONED Church on the Rock
LOCATION:POSTPONED Church on the Rock\, 1401 N. High St.\, POSTPONED Fort Atkinson\, WI
END:VEVENT
END:VCALENDAR
