BEGIN:VCALENDAR
VERSION:2.0
PRODID:-//AudioTheme 2.3.8
BEGIN:VEVENT
UID:urn:uuid:a4a24c0b-a026-4d00-8ba6-c7e0a9da9987
URL:https://mitchmcvicker.com/concerts/gig-3840/
DTSTART;TZID=GMT:20200228T000000
SUMMARY:Concordia Lutheran Church
LOCATION:Concordia Lutheran Church\, 185 Concordia Church Rd.\, China Grove\, NC
END:VEVENT
END:VCALENDAR
