BEGIN:VCALENDAR
VERSION:2.0
PRODID:-//AudioTheme 2.3.8
BEGIN:VEVENT
UID:urn:uuid:b03c30bc-7b40-4dd4-992e-32315e94b59c
URL:https://mitchmcvicker.com/concerts/gig-3828/
DTSTART;TZID=GMT:20200428T233000
SUMMARY:POSTPONED Hanson United Methodist Church
LOCATION:POSTPONED Hanson United Methodist Church\, 2740 Brown Badgett Loop\, POSTPONED Hanson\, KY
END:VEVENT
END:VCALENDAR
