BEGIN:VCALENDAR
VERSION:2.0
PRODID:-//AudioTheme 2.3.8
BEGIN:VEVENT
UID:urn:uuid:df3d3520-76de-4999-9f0c-55289de28919
URL:https://mitchmcvicker.com/concerts/gig-3826/
DTSTART;TZID=GMT:20200325T003000
SUMMARY:Wylie Christian Church
LOCATION:Wylie Christian Church\, 6250 Buffalo Gap Rd.\, Abilene\, TX
END:VEVENT
END:VCALENDAR
