BEGIN:VCALENDAR
VERSION:2.0
PRODID:-//AudioTheme 2.3.8
BEGIN:VEVENT
UID:urn:uuid:f9e8140e-3457-4944-8ed5-0e5571025816
URL:https://mitchmcvicker.com/concerts/gig-3824/
DTSTART;TZID=GMT:20200314T003000
SUMMARY:First Church of the Nazarene
LOCATION:First Church of the Nazarene\, 1105 Edinburgh St\, Victoria\, TX
END:VEVENT
END:VCALENDAR
