BEGIN:VCALENDAR
VERSION:2.0
PRODID:-//AudioTheme 2.3.8
BEGIN:VEVENT
UID:urn:uuid:ecbb545a-19b4-484a-99e8-0ff67e9b484c
URL:https://mitchmcvicker.com/concerts/gig-3823/
DTSTART;TZID=GMT:20200312T233000
SUMMARY:Caprock Springs Fellowship
LOCATION:Caprock Springs Fellowship\, 315 N Ave H\, Post\, TX
END:VEVENT
END:VCALENDAR
