BEGIN:VCALENDAR
VERSION:2.0
PRODID:-//AudioTheme 2.3.8
BEGIN:VEVENT
UID:urn:uuid:eba75feb-3ec3-4d83-8498-106ae81cdfea
URL:https://mitchmcvicker.com/concerts/gig-3818/
DTSTART;VALUE=DATE:19981204
SUMMARY:Venue TBD
LOCATION:Venue TBD\, Kingsport\, TN
END:VEVENT
END:VCALENDAR
