BEGIN:VCALENDAR
VERSION:2.0
PRODID:-//AudioTheme 2.3.8
BEGIN:VEVENT
UID:urn:uuid:7ad49174-7296-4dcd-b19f-733992685bed
URL:https://mitchmcvicker.com/concerts/gig-3815/
DTSTART;VALUE=DATE:19981121
SUMMARY:Venue TBD
LOCATION:Venue TBD\, Jonesboro\, TN
END:VEVENT
END:VCALENDAR
