BEGIN:VCALENDAR
VERSION:2.0
PRODID:-//AudioTheme 2.3.8
BEGIN:VEVENT
UID:urn:uuid:d9dfd1a0-6f2e-4fcd-86cb-6d72332927b9
URL:https://mitchmcvicker.com/concerts/gig-3813/
DTSTART;VALUE=DATE:19981119
SUMMARY:Wesley United Methodist Church-Sponsored by Wesley Foundation of Western Illinois University
LOCATION:Wesley United Methodist Church-Sponsored by Wesley Foundation of Western Illinois University\, Macomb\, IL
END:VEVENT
END:VCALENDAR
