BEGIN:VCALENDAR
VERSION:2.0
PRODID:-//AudioTheme 2.3.8
BEGIN:VEVENT
UID:urn:uuid:b742204f-b228-4b6d-9e9f-290a801f9c3a
URL:https://mitchmcvicker.com/concerts/gig-3811/
DTSTART;VALUE=DATE:19981115
SUMMARY:Venue TBD
LOCATION:Venue TBD\, Rochester\, MN
END:VEVENT
END:VCALENDAR
