BEGIN:VCALENDAR
VERSION:2.0
PRODID:-//AudioTheme 2.3.8
BEGIN:VEVENT
UID:urn:uuid:dae0ecf6-916a-44a3-9229-617c15b0b211
URL:https://mitchmcvicker.com/concerts/gig-3809/
DTSTART;VALUE=DATE:19981114
SUMMARY:Bethel College, Benson Great Hall
LOCATION:Bethel College\, Benson Great Hall\, St Paul\, MN
END:VEVENT
END:VCALENDAR
