BEGIN:VCALENDAR
VERSION:2.0
PRODID:-//AudioTheme 2.3.8
BEGIN:VEVENT
UID:urn:uuid:04dccdbd-4165-4517-997f-99fcffab57e2
URL:https://mitchmcvicker.com/concerts/gig-3807/
DTSTART;VALUE=DATE:19981113
SUMMARY:Alliance Bible Church
LOCATION:Alliance Bible Church\, Mequon\, WI
END:VEVENT
END:VCALENDAR
