BEGIN:VCALENDAR
VERSION:2.0
PRODID:-//AudioTheme 2.3.8
BEGIN:VEVENT
UID:urn:uuid:8f8a1ffd-ba45-4a04-9e43-a28e295eb7fb
URL:https://mitchmcvicker.com/concerts/gig-3805/
DTSTART;VALUE=DATE:19981109
SUMMARY:The Pulse TV Show
LOCATION:The Pulse TV Show\, South Bend\, IN
END:VEVENT
END:VCALENDAR
