BEGIN:VCALENDAR
VERSION:2.0
PRODID:-//AudioTheme 2.3.8
BEGIN:VEVENT
UID:urn:uuid:9dc80008-8856-4145-b1a6-10ae3a697a7f
URL:https://mitchmcvicker.com/concerts/gig-3803/
DTSTART;VALUE=DATE:19981108
SUMMARY:Elgin Community College-Visual and Performing Arts Center- Sponsored by West Ridge Community Church
LOCATION:Elgin Community College-Visual and Performing Arts Center- Sponsored by West Ridge Community Church\, Elgin\, IL
END:VEVENT
END:VCALENDAR
