BEGIN:VCALENDAR
VERSION:2.0
PRODID:-//AudioTheme 2.3.8
BEGIN:VEVENT
UID:urn:uuid:9e3cbe0e-e5a7-4134-96ed-eedaea597fb7
URL:https://mitchmcvicker.com/concerts/gig-3801/
DTSTART;VALUE=DATE:19981107
SUMMARY:Grace Chapel EPC
LOCATION:Grace Chapel EPC\, Farmington Hills\, MI
END:VEVENT
END:VCALENDAR
