BEGIN:VCALENDAR
VERSION:2.0
PRODID:-//AudioTheme 2.3.8
BEGIN:VEVENT
UID:urn:uuid:ba9f9778-e284-4503-8f0b-e0d2a676d63e
URL:https://mitchmcvicker.com/concerts/gig-3799/
DTSTART;VALUE=DATE:19981106
SUMMARY:Calvin College
LOCATION:Calvin College\, Grand Rapids\, MI
END:VEVENT
END:VCALENDAR
