BEGIN:VCALENDAR
VERSION:2.0
PRODID:-//AudioTheme 2.3.8
BEGIN:VEVENT
UID:urn:uuid:e69a1b68-7229-4cc0-a429-6f89453f21fe
URL:https://mitchmcvicker.com/concerts/gig-3797/
DTSTART;VALUE=DATE:19981105
SUMMARY:Jitters & Rush Club
LOCATION:Jitters & Rush Club\, Champaign\, IL
END:VEVENT
END:VCALENDAR
