BEGIN:VCALENDAR
VERSION:2.0
PRODID:-//AudioTheme 2.3.8
BEGIN:VEVENT
UID:urn:uuid:03490ca5-74f2-45a1-abf5-367b82c3e8de
URL:https://mitchmcvicker.com/concerts/gig-3795/
DTSTART;VALUE=DATE:19981031
SUMMARY:Mountain Park Methodist Church
LOCATION:Mountain Park Methodist Church\, Stone Mountain\, GA
END:VEVENT
END:VCALENDAR
