BEGIN:VCALENDAR
VERSION:2.0
PRODID:-//AudioTheme 2.3.8
BEGIN:VEVENT
UID:urn:uuid:b9ac3945-6feb-490a-85d9-7a3bcf3681d4
URL:https://mitchmcvicker.com/concerts/gig-3793/
DTSTART;VALUE=DATE:19981025
SUMMARY:O'Laughlin Auditorium, St. Mary's College
LOCATION:O'Laughlin Auditorium\, St. Mary's College\, South Bend\, IN
END:VEVENT
END:VCALENDAR
