BEGIN:VCALENDAR
VERSION:2.0
PRODID:-//AudioTheme 2.3.8
BEGIN:VEVENT
UID:urn:uuid:0da35a10-b263-41c4-9ebb-7b61331cbebc
URL:https://mitchmcvicker.com/concerts/gig-3791/
DTSTART;VALUE=DATE:19981024
SUMMARY:Lakota Christian Church
LOCATION:Lakota Christian Church\, Cincinnati\, OH
END:VEVENT
END:VCALENDAR
