BEGIN:VCALENDAR
VERSION:2.0
PRODID:-//AudioTheme 2.3.8
BEGIN:VEVENT
UID:urn:uuid:6daf28c7-a905-4e6c-88dd-de5114d9098e
URL:https://mitchmcvicker.com/concerts/gig-3789/
DTSTART;VALUE=DATE:19981023
SUMMARY:Mt Pleasant Christian Church
LOCATION:Mt Pleasant Christian Church\, Greenwood\, IN
END:VEVENT
END:VCALENDAR
