BEGIN:VCALENDAR
VERSION:2.0
PRODID:-//AudioTheme 2.3.8
BEGIN:VEVENT
UID:urn:uuid:1c96ff83-c82c-4cc6-9148-1c51e9e393f1
URL:https://mitchmcvicker.com/concerts/gig-3787/
DTSTART;VALUE=DATE:19981019
SUMMARY:Southwest Baptist University (Grace Awakening)
LOCATION:Southwest Baptist University (Grace Awakening)\, Bolivar\, MO
END:VEVENT
END:VCALENDAR
