BEGIN:VCALENDAR
VERSION:2.0
PRODID:-//AudioTheme 2.3.8
BEGIN:VEVENT
UID:urn:uuid:1ce54142-8440-4108-8eae-d932a192c6a4
URL:https://mitchmcvicker.com/concerts/gig-3785/
DTSTART;VALUE=DATE:19981018
SUMMARY:Johnson County Christian Church
LOCATION:Johnson County Christian Church\, Overland Park\, KS
END:VEVENT
END:VCALENDAR
