BEGIN:VCALENDAR
VERSION:2.0
PRODID:-//AudioTheme 2.3.8
BEGIN:VEVENT
UID:urn:uuid:5c9053a6-242f-42de-bf76-5ff129d52b81
URL:https://mitchmcvicker.com/concerts/gig-3783/
DTSTART;VALUE=DATE:19981017
SUMMARY:New Earth Coffee House
LOCATION:New Earth Coffee House\, Kansas City\, MO
END:VEVENT
END:VCALENDAR
