BEGIN:VCALENDAR
VERSION:2.0
PRODID:-//AudioTheme 2.3.8
BEGIN:VEVENT
UID:urn:uuid:89fe1920-b1ee-4e3c-83cf-f07d8cab91ba
URL:https://mitchmcvicker.com/concerts/gig-3781/
DTSTART;VALUE=DATE:19981015
SUMMARY:Venue TBD-
LOCATION:Venue TBD-\, Jonesboro\, AR
END:VEVENT
END:VCALENDAR
