BEGIN:VCALENDAR
VERSION:2.0
PRODID:-//AudioTheme 2.3.8
BEGIN:VEVENT
UID:urn:uuid:43c24944-8b75-49ae-b8b5-4ec5ec186cb5
URL:https://mitchmcvicker.com/concerts/gig-3779/
DTSTART;VALUE=DATE:19981014
SUMMARY:Leawood Baptist Church
LOCATION:Leawood Baptist Church\, Memphis\, TN
END:VEVENT
END:VCALENDAR
