BEGIN:VCALENDAR
VERSION:2.0
PRODID:-//AudioTheme 2.3.8
BEGIN:VEVENT
UID:urn:uuid:5d744429-b668-420c-863e-19ea5883b31e
URL:https://mitchmcvicker.com/concerts/gig-3777/
DTSTART;VALUE=DATE:19981009
SUMMARY:Bethlehem Baptist Church
LOCATION:Bethlehem Baptist Church\, Gastonia\, NC
END:VEVENT
END:VCALENDAR
