BEGIN:VCALENDAR
VERSION:2.0
PRODID:-//AudioTheme 2.3.8
BEGIN:VEVENT
UID:urn:uuid:5b42a8a6-e0ff-4b35-bae9-4b7547d6c362
URL:https://mitchmcvicker.com/concerts/gig-3775/
DTSTART;VALUE=DATE:19981008
SUMMARY:Briarwood Presbyterian Church
LOCATION:Briarwood Presbyterian Church\, Birmingham\, AL
END:VEVENT
END:VCALENDAR
