BEGIN:VCALENDAR
VERSION:2.0
PRODID:-//AudioTheme 2.3.8
BEGIN:VEVENT
UID:urn:uuid:51ecedf6-4ad5-462f-aa35-94efaad5c7cc
URL:https://mitchmcvicker.com/concerts/gig-3773/
DTSTART;VALUE=DATE:19980920
SUMMARY:The American Music Theatre
LOCATION:The American Music Theatre\, Lancaster\, PA
END:VEVENT
END:VCALENDAR
