BEGIN:VCALENDAR
VERSION:2.0
PRODID:-//AudioTheme 2.3.8
BEGIN:VEVENT
UID:urn:uuid:2a6888e9-1cc9-4518-b3e0-13f497d9ae21
URL:https://mitchmcvicker.com/concerts/gig-3771/
DTSTART;VALUE=DATE:19980918
SUMMARY:Berea High School
LOCATION:Berea High School\, Berea\, OH
END:VEVENT
END:VCALENDAR
