BEGIN:VCALENDAR
VERSION:2.0
PRODID:-//AudioTheme 2.3.8
BEGIN:VEVENT
UID:urn:uuid:0b79038d-d38f-446e-b36f-26f4b52db8f8
URL:https://mitchmcvicker.com/concerts/gig-3769/
DTSTART;VALUE=DATE:19980915
SUMMARY:Gibson's Caffe Milano
LOCATION:Gibson's Caffe Milano\, Nashville\, TN
END:VEVENT
END:VCALENDAR
