BEGIN:VCALENDAR
VERSION:2.0
PRODID:-//AudioTheme 2.3.8
BEGIN:VEVENT
UID:urn:uuid:0d17b6bc-1cfd-4a70-b9e3-479001ca258f
URL:https://mitchmcvicker.com/concerts/gig-3765/
DTSTART;VALUE=DATE:19980905
SUMMARY:Heartfest WXIR Listener Appreciation Day at Garfield Park
LOCATION:Heartfest WXIR Listener Appreciation Day at Garfield Park\, Indianapolis\, IN
END:VEVENT
END:VCALENDAR
