BEGIN:VCALENDAR
VERSION:2.0
PRODID:-//AudioTheme 2.3.8
BEGIN:VEVENT
UID:urn:uuid:1f51095c-8311-42f7-9bc3-2f353bdae615
URL:https://mitchmcvicker.com/concerts/gig-3763/
DTSTART;VALUE=DATE:19980830
SUMMARY:Jesus Fest '98 and The Legacy Kickoff
LOCATION:Jesus Fest '98 and The Legacy Kickoff\, Wichita\, KS
END:VEVENT
END:VCALENDAR
