BEGIN:VCALENDAR
VERSION:2.0
PRODID:-//AudioTheme 2.3.8
BEGIN:VEVENT
UID:urn:uuid:0031a9fe-5200-43ce-a0d8-3e91d9046aec
URL:https://mitchmcvicker.com/concerts/gig-3761/
DTSTART;VALUE=DATE:19980807
SUMMARY:First Church of the Nazarene
LOCATION:First Church of the Nazarene\, Topeka\, KS
END:VEVENT
END:VCALENDAR
