BEGIN:VCALENDAR
VERSION:2.0
PRODID:-//AudioTheme 2.3.8
BEGIN:VEVENT
UID:urn:uuid:8ca4ac74-47ce-450f-b655-3720eeaceab5
URL:https://mitchmcvicker.com/concerts/gig-3759/
DTSTART;VALUE=DATE:19980807
SUMMARY:Lemstone Books-Store Appearance
LOCATION:Lemstone Books-Store Appearance\, Topeka\, KS
END:VEVENT
END:VCALENDAR
