BEGIN:VCALENDAR
VERSION:2.0
PRODID:-//AudioTheme 2.3.8
BEGIN:VEVENT
UID:urn:uuid:8ef69e57-9e54-45fa-a74a-1655fc10c66f
URL:https://mitchmcvicker.com/concerts/gig-3757/
DTSTART;VALUE=DATE:19980802
SUMMARY:St. Joe County Fair-Sponsored by Pulse FM
LOCATION:St. Joe County Fair-Sponsored by Pulse FM\, South Bend\, IN
END:VEVENT
END:VCALENDAR
