BEGIN:VCALENDAR
VERSION:2.0
PRODID:-//AudioTheme 2.3.8
BEGIN:VEVENT
UID:urn:uuid:af8bb8cc-95ae-42c4-81dc-9d34f450cc51
URL:https://mitchmcvicker.com/concerts/gig-3753/
DTSTART;VALUE=DATE:19980730
SUMMARY:First Assembly of God Church
LOCATION:First Assembly of God Church\, Lafayette\, IN
END:VEVENT
END:VCALENDAR
