BEGIN:VCALENDAR
VERSION:2.0
PRODID:-//AudioTheme 2.3.8
BEGIN:VEVENT
UID:urn:uuid:4791ee3f-65eb-4dde-88f2-2ed3e419a049
URL:https://mitchmcvicker.com/concerts/gig-3751/
DTSTART;VALUE=DATE:19980728
SUMMARY:St. Matthews Church
LOCATION:St. Matthews Church\, Belleville\, IL
END:VEVENT
END:VCALENDAR
